BEGIN:VCALENDAR
VERSION:2.0
PRODID:-//hacksw/handcal//NONSGML v1.0//EN
CALSCALE:GREGORIAN
BEGIN:VEVENT
DTSTART:20260430T110000
DTEND:20260430T120000
LOCATION:\,  
DESCRIPTION:
SUMMARY:Nieuwe wetgeving 2026: arbeidspotentieel en re-integratie - Webinar 
DTSTAMP:20260420T204704
UID:69e674a89f6a2
END:VEVENT
END:VCALENDAR